BEGIN:VCALENDAR
VERSION:2.0
PRODID:-//Grand County Rural Health Network - ECPv6.15.17.1//NONSGML v1.0//EN
CALSCALE:GREGORIAN
METHOD:PUBLISH
X-WR-CALNAME:Grand County Rural Health Network
X-ORIGINAL-URL:https://gcruralhealth.org
X-WR-CALDESC:Events for Grand County Rural Health Network
REFRESH-INTERVAL;VALUE=DURATION:PT1H
X-Robots-Tag:noindex
X-PUBLISHED-TTL:PT1H
BEGIN:VTIMEZONE
TZID:America/Denver
BEGIN:DAYLIGHT
TZOFFSETFROM:-0700
TZOFFSETTO:-0600
TZNAME:MDT
DTSTART:20240310T090000
END:DAYLIGHT
BEGIN:STANDARD
TZOFFSETFROM:-0600
TZOFFSETTO:-0700
TZNAME:MST
DTSTART:20241103T080000
END:STANDARD
BEGIN:DAYLIGHT
TZOFFSETFROM:-0700
TZOFFSETTO:-0600
TZNAME:MDT
DTSTART:20250309T090000
END:DAYLIGHT
BEGIN:STANDARD
TZOFFSETFROM:-0600
TZOFFSETTO:-0700
TZNAME:MST
DTSTART:20251102T080000
END:STANDARD
BEGIN:DAYLIGHT
TZOFFSETFROM:-0700
TZOFFSETTO:-0600
TZNAME:MDT
DTSTART:20260308T090000
END:DAYLIGHT
BEGIN:STANDARD
TZOFFSETFROM:-0600
TZOFFSETTO:-0700
TZNAME:MST
DTSTART:20261101T080000
END:STANDARD
END:VTIMEZONE
BEGIN:VEVENT
DTSTART;TZID=America/Denver:20250209T160000
DTEND;TZID=America/Denver:20250209T210000
DTSTAMP:20260420T045941
CREATED:20250128T174412Z
LAST-MODIFIED:20250128T174412Z
UID:8063-1739116800-1739134800@gcruralhealth.org
SUMMARY:Alcohol-free and Family Friendly Super Bowl Party!
DESCRIPTION:Making game day party plans? Check out this alcohol-free\, family friendly option at Sun Outdoors in Granby with plenty of food and non-alcoholic drinks. This event is totally FREE and everyone is welcome! Craft table for the kids and two screens for watching all the action! \n\n\n \n\n\nPresented by the Grand County Rural Health Network’s Peer Recovery Team
URL:https://gcruralhealth.org/event/alcohol-free-and-family-friendly-super-bowl-party/
LOCATION:Sun Outdoors event center\, 60500 US-40\, Granby\, CO\, 80446\, United States
CATEGORIES:GCRHN Event
ATTACH;FMTTYPE=image/jpeg:https://gcruralhealth.org/wp-content/uploads/2025/01/super-bowl-insta.jpg
ORGANIZER;CN="GCRHN":MAILTO:mail@gcruralhealth.org
END:VEVENT
BEGIN:VEVENT
DTSTART;TZID=America/Denver:20250220T180000
DTEND;TZID=America/Denver:20250220T200000
DTSTAMP:20260420T045942
CREATED:20250128T175445Z
LAST-MODIFIED:20250128T175757Z
UID:8065-1740074400-1740081600@gcruralhealth.org
SUMMARY:Community IMPACT Team meeting at Granby library – all are welcome!
DESCRIPTION:The Grand County Rural Health Network’s Community IMPACT Team is a group of passionate Grand County residents working to address important issues facing our community. All are welcome to join us on the 3rd Thursday of each month from 6-8 pm. Our meeting is open to the public. \nOur current focus areas are affordable housing\, behavioral health (including substance use and suicide prevention)\, and preventive health. We invite you to come to our monthly meetings and be a part of the change in our community. \nMeeting location varies monthly in different parts of the county\, and the meetings are also available on Zoom (see link below). Email jtibbetts@gcruralhealth.org to get more information and this month’s meeting location or check out our Facebook page. \nZOOM Link: https://us02web.zoom.us/j/81242467621?pwd=bkFxS3h0bGhZTER5enZyK1I4MGtDQT09 \nTo learn more\, visit: https://gcruralhealth.org/take-action/community-impact-team
URL:https://gcruralhealth.org/event/community-impact-team-meeting-at-granby-library/
LOCATION:Granby Public Library\, 55 Zero Street\, Granby
ORGANIZER;CN="GCRHN":MAILTO:mail@gcruralhealth.org
END:VEVENT
END:VCALENDAR