BEGIN:VCALENDAR
VERSION:2.0
PRODID:-//Grand County Rural Health Network - ECPv6.15.17.1//NONSGML v1.0//EN
CALSCALE:GREGORIAN
METHOD:PUBLISH
X-ORIGINAL-URL:https://gcruralhealth.org
X-WR-CALDESC:Events for Grand County Rural Health Network
REFRESH-INTERVAL;VALUE=DURATION:PT1H
X-Robots-Tag:noindex
X-PUBLISHED-TTL:PT1H
BEGIN:VTIMEZONE
TZID:America/Denver
BEGIN:DAYLIGHT
TZOFFSETFROM:-0700
TZOFFSETTO:-0600
TZNAME:MDT
DTSTART:20230312T090000
END:DAYLIGHT
BEGIN:STANDARD
TZOFFSETFROM:-0600
TZOFFSETTO:-0700
TZNAME:MST
DTSTART:20231105T080000
END:STANDARD
BEGIN:DAYLIGHT
TZOFFSETFROM:-0700
TZOFFSETTO:-0600
TZNAME:MDT
DTSTART:20240310T090000
END:DAYLIGHT
BEGIN:STANDARD
TZOFFSETFROM:-0600
TZOFFSETTO:-0700
TZNAME:MST
DTSTART:20241103T080000
END:STANDARD
BEGIN:DAYLIGHT
TZOFFSETFROM:-0700
TZOFFSETTO:-0600
TZNAME:MDT
DTSTART:20250309T090000
END:DAYLIGHT
BEGIN:STANDARD
TZOFFSETFROM:-0600
TZOFFSETTO:-0700
TZNAME:MST
DTSTART:20251102T080000
END:STANDARD
END:VTIMEZONE
BEGIN:VEVENT
DTSTART;TZID=America/Denver:20241102T160000
DTEND;TZID=America/Denver:20241102T200000
DTSTAMP:20260420T093746
CREATED:20241007T183449Z
LAST-MODIFIED:20241007T183449Z
UID:7493-1730563200-1730577600@gcruralhealth.org
SUMMARY:Granby’s first Dia de los Muertos / Day of the Dead celebration!
DESCRIPTION:
URL:https://gcruralhealth.org/event/granbys-first-dia-de-los-muertos-day-of-the-dead-celebration/
LOCATION:Middle Park High School\, 795 N 2nd St\, Granby\, CO\, 80446\, United States
END:VEVENT
BEGIN:VEVENT
DTSTART;TZID=America/Denver:20241103T140000
DTEND;TZID=America/Denver:20241103T153000
DTSTAMP:20260420T093746
CREATED:20241024T183507Z
LAST-MODIFIED:20241024T184309Z
UID:7541-1730642400-1730647800@gcruralhealth.org
SUMMARY:Health Insurance Educational Event in Spanish- Evento Educacional acerca de la Cobertura de Salud en CO – Granby
DESCRIPTION:There is a Zoom option to attend: https://us02web.zoom.us/j/87158592606?pwd=tKE7mjvkTG9k9VPrCj5DvtlSrqUrHT.1 \n  \n 
URL:https://gcruralhealth.org/event/health-insurance-educational-event-in-spanish-evento-educacional-acerca-de-la-cobertura-de-salud-en-co/
LOCATION:Granby Public Library\, 55 Zero Street\, Granby
ORGANIZER;CN="GCRHN":MAILTO:mail@gcruralhealth.org
END:VEVENT
BEGIN:VEVENT
DTSTART;TZID=America/Denver:20241106T133000
DTEND;TZID=America/Denver:20241106T143000
DTSTAMP:20260420T093746
CREATED:20241024T183751Z
LAST-MODIFIED:20241024T184423Z
UID:7543-1730899800-1730903400@gcruralhealth.org
SUMMARY:Health Insurance Educational Event in Spanish- Evento Educacional acerca de la Cobertura de Salud en CO – Winter Park Christian Church
DESCRIPTION:There is a Zoom option to attend: https://us02web.zoom.us/j/87158592606?pwd=tKE7mjvkTG9k9VPrCj5DvtlSrqUrHT.1 \n  \n 
URL:https://gcruralhealth.org/event/health-insurance-educational-event-in-spanish-evento-educacional-acerca-de-la-cobertura-de-salud-en-co-2/
LOCATION:Winter Park Christian Church\, 274 Ponderosa Trail\, Tabernash\, CO
ORGANIZER;CN="GCRHN":MAILTO:mail@gcruralhealth.org
END:VEVENT
BEGIN:VEVENT
DTSTART;TZID=America/Denver:20241106T183000
DTEND;TZID=America/Denver:20241106T203000
DTSTAMP:20260420T093746
CREATED:20231214T174400Z
LAST-MODIFIED:20231214T174400Z
UID:6292-1730917800-1730925000@gcruralhealth.org
SUMMARY:GCRHN Board Meeting
DESCRIPTION:Our Grand County Rural Health Network Board of Directors meet the first Wednesday of each month from 6:30-8:30 pm. Meetings may be attended upon invite only. For the meeting location and to request an invite\, please call Jen Fanning at 970-725-3477 or email Jen Fanning by the Monday prior if you are interested in attending. (Board meetings are in-person with a Zoom or Teams link option; please let us know in advance if you will attend virtually.)
URL:https://gcruralhealth.org/event/gcrhn-board-meeting-25/
LOCATION:CO
CATEGORIES:GCRHN Event
END:VEVENT
BEGIN:VEVENT
DTSTART;TZID=America/Denver:20241107T170000
DTEND;TZID=America/Denver:20241107T190000
DTSTAMP:20260420T093746
CREATED:20241024T183929Z
LAST-MODIFIED:20241024T184508Z
UID:7547-1730998800-1731006000@gcruralhealth.org
SUMMARY:Health Insurance Educational Event in Spanish- Evento Educacional acerca de la Cobertura de Salud en CO – Fraser
DESCRIPTION:There is also a Zoom option to attend: https://us02web.zoom.us/j/87158592606?pwd=tKE7mjvkTG9k9VPrCj5DvtlSrqUrHT.1
URL:https://gcruralhealth.org/event/health-insurance-educational-event-in-spanish-evento-educacional-acerca-de-la-cobertura-de-salud-en-co-3/
LOCATION:Fraser Library
ORGANIZER;CN="GCRHN":MAILTO:mail@gcruralhealth.org
END:VEVENT
BEGIN:VEVENT
DTSTART;TZID=America/Denver:20241108T200000
DTEND;TZID=America/Denver:20241108T210000
DTSTAMP:20260420T093746
CREATED:20241024T184214Z
LAST-MODIFIED:20241024T184214Z
UID:7549-1731096000-1731099600@gcruralhealth.org
SUMMARY:Health Insurance Educational Event in Spanish- Evento Educacional acerca de la Cobertura de Salud en CO – Kremmling
DESCRIPTION:There is also a Zoom option to attend: https://us02web.zoom.us/j/87158592606?pwd=tKE7mjvkTG9k9VPrCj5DvtlSrqUrHT.1
URL:https://gcruralhealth.org/event/health-insurance-educational-event-in-spanish-evento-educacional-acerca-de-la-cobertura-de-salud-en-co-kremmling/
LOCATION:St\, Peters Catholic Church\, 106 5th St.\, Kremmling\, CO\, 80459\, United States
ORGANIZER;CN="GCRHN":MAILTO:mail@gcruralhealth.org
END:VEVENT
BEGIN:VEVENT
DTSTART;VALUE=DATE:20241111
DTEND;VALUE=DATE:20241112
DTSTAMP:20260420T093746
CREATED:20231214T165451Z
LAST-MODIFIED:20231214T165451Z
UID:6258-1731283200-1731369599@gcruralhealth.org
SUMMARY:GCRHN office closed
DESCRIPTION:
URL:https://gcruralhealth.org/event/gcrhn-office-closed-14/
LOCATION:CO
END:VEVENT
BEGIN:VEVENT
DTSTART;TZID=America/Denver:20241121T180000
DTEND;TZID=America/Denver:20241121T200000
DTSTAMP:20260420T093746
CREATED:20240715T182229Z
LAST-MODIFIED:20240715T182229Z
UID:7166-1732212000-1732219200@gcruralhealth.org
SUMMARY:Community IMPACT Team meeting – all are welcome!
DESCRIPTION:The Grand County Rural Health Network’s Community IMPACT Team is a group of passionate Grand County residents working to address important issues facing our community. All are welcome to join us on the 3rd Thursday of each month from 6-8 pm. Our meeting is open to the public. \nOur current focus areas are affordable housing\, behavioral health (including substance use and suicide prevention)\, and preventive health. We invite you to come to our monthly meetings and be a part of the change in our community. \nMeeting location varies monthly in different parts of the county\, and the meetings are also available on Zoom (see link below). Email jtibbetts@gcruralhealth.org to get more information and this month’s meeting location or check out our Facebook page. \nZOOM Link: https://us02web.zoom.us/j/81242467621?pwd=bkFxS3h0bGhZTER5enZyK1I4MGtDQT09 \nTo learn more\, visit: https://gcruralhealth.org/take-action/community-impact-team
URL:https://gcruralhealth.org/event/community-impact-team-meeting-all-are-welcome-3/
LOCATION:CO
ORGANIZER;CN="GCRHN":MAILTO:mail@gcruralhealth.org
END:VEVENT
BEGIN:VEVENT
DTSTART;VALUE=DATE:20241128
DTEND;VALUE=DATE:20241129
DTSTAMP:20260420T093746
CREATED:20231214T165546Z
LAST-MODIFIED:20231214T165546Z
UID:6260-1732752000-1732838399@gcruralhealth.org
SUMMARY:GCRHN office closed
DESCRIPTION:
URL:https://gcruralhealth.org/event/gcrhn-office-closed-15/
LOCATION:CO
END:VEVENT
BEGIN:VEVENT
DTSTART;VALUE=DATE:20241129
DTEND;VALUE=DATE:20241130
DTSTAMP:20260420T093746
CREATED:20231214T165633Z
LAST-MODIFIED:20231214T165633Z
UID:6262-1732838400-1732924799@gcruralhealth.org
SUMMARY:GCRHN office closed
DESCRIPTION:
URL:https://gcruralhealth.org/event/gcrhn-office-closed-16/
LOCATION:CO
END:VEVENT
END:VCALENDAR