BEGIN:VCALENDAR
VERSION:2.0
PRODID:-//Grand County Rural Health Network - ECPv6.15.17.1//NONSGML v1.0//EN
CALSCALE:GREGORIAN
METHOD:PUBLISH
X-WR-CALNAME:Grand County Rural Health Network
X-ORIGINAL-URL:https://gcruralhealth.org
X-WR-CALDESC:Events for Grand County Rural Health Network
REFRESH-INTERVAL;VALUE=DURATION:PT1H
X-Robots-Tag:noindex
X-PUBLISHED-TTL:PT1H
BEGIN:VTIMEZONE
TZID:America/Denver
BEGIN:DAYLIGHT
TZOFFSETFROM:-0700
TZOFFSETTO:-0600
TZNAME:MDT
DTSTART:20220313T090000
END:DAYLIGHT
BEGIN:STANDARD
TZOFFSETFROM:-0600
TZOFFSETTO:-0700
TZNAME:MST
DTSTART:20221106T080000
END:STANDARD
BEGIN:DAYLIGHT
TZOFFSETFROM:-0700
TZOFFSETTO:-0600
TZNAME:MDT
DTSTART:20230312T090000
END:DAYLIGHT
BEGIN:STANDARD
TZOFFSETFROM:-0600
TZOFFSETTO:-0700
TZNAME:MST
DTSTART:20231105T080000
END:STANDARD
BEGIN:DAYLIGHT
TZOFFSETFROM:-0700
TZOFFSETTO:-0600
TZNAME:MDT
DTSTART:20240310T090000
END:DAYLIGHT
BEGIN:STANDARD
TZOFFSETFROM:-0600
TZOFFSETTO:-0700
TZNAME:MST
DTSTART:20241103T080000
END:STANDARD
END:VTIMEZONE
BEGIN:VEVENT
DTSTART;TZID=America/Denver:20231004T183000
DTEND;TZID=America/Denver:20231004T203000
DTSTAMP:20260422T001136
CREATED:20230419T180645Z
LAST-MODIFIED:20230419T180645Z
UID:4501-1696444200-1696451400@gcruralhealth.org
SUMMARY:GCRHN Board Meeting
DESCRIPTION:Our Grand County Rural Health Network Board of Directors meet the first Wednesday of each month from 6:30-8:30 pm. Meetings may be attended upon invite only. For the meeting location and to request an invite\, please call Jen Fanning at 970-725-3477 or email Jen Fanning by the Monday prior if you are interested in attending. (Board meetings are in-person with a Zoom or Teams link option; please let us know in advance if you will attend virtually.)
URL:https://gcruralhealth.org/event/gcrhn-board-meeting-14/
LOCATION:CO
END:VEVENT
BEGIN:VEVENT
DTSTART;VALUE=DATE:20231009
DTEND;VALUE=DATE:20231010
DTSTAMP:20260422T001136
CREATED:20230421T201050Z
LAST-MODIFIED:20230421T201050Z
UID:4521-1696809600-1696895999@gcruralhealth.org
SUMMARY:GCRHN Office Closed
DESCRIPTION:In observance of Indigenous People’s Day\, our offices will be closed today.
URL:https://gcruralhealth.org/event/gcrhn-office-closed-4/
LOCATION:CO
END:VEVENT
BEGIN:VEVENT
DTSTART;TZID=America/Denver:20231011T090000
DTEND;TZID=America/Denver:20231011T160000
DTSTAMP:20260422T001136
CREATED:20231003T170449Z
LAST-MODIFIED:20231004T185326Z
UID:5700-1697014800-1697040000@gcruralhealth.org
SUMMARY:2 Business & Resource Hub Planning Meetings (9am – 12pm and 1pm- 4pm)
DESCRIPTION:Nonprofit and Government Partners\, Business Leaders\, Community Members:\nWe want to hear from You! \nDid you know community “ Resource Hubs” benefit the local economy\, improve service reach\, and promote resource sharing? Come discover how a Centralized Building provides health and social supports\, economic resources\, and community\, all under one roof. Help us brainstorm our way to a Grand community! \n\nRSVP at https://bit.ly/3Pi1X9M – Snacks provided!\nFor more information\, call Jen or Christine: 970-725-3477
URL:https://gcruralhealth.org/event/business-resource-hub-planning-meeting/
LOCATION:Grand Fire District Meeting Room\, Granby\, 60500 US-40\, Granby\, CO\, 80446\, United States
CATEGORIES:GCRHN Event
ORGANIZER;CN="GCRHN":MAILTO:mail@gcruralhealth.org
END:VEVENT
BEGIN:VEVENT
DTSTART;TZID=America/Denver:20231012T090000
DTEND;TZID=America/Denver:20231012T120000
DTSTAMP:20260422T001136
CREATED:20231003T173009Z
LAST-MODIFIED:20231003T173009Z
UID:5712-1697101200-1697112000@gcruralhealth.org
SUMMARY:Business & Resource Hub planning meeting
DESCRIPTION:Nonprofit and Government Partners\, Business Leaders\, Community Members:\nWe want to hear from You! \nDid you know community “ Resource Hubs” benefit the local economy\, improve service reach\, and promote resource sharing? Come discover how a Centralized Building provides health and social supports\, economic resources\, and community\, all under one roof. Help us brainstorm our way to a Grand community! \n\nRSVP at https://bit.ly/3Pi1X9M\nFor more information\, call Jen or Christine: 970-725-3477\n\nSnacks provided!
URL:https://gcruralhealth.org/event/business-resource-hub-planning-meeting-2/
LOCATION:Grand Fire District Meeting Room\, Granby\, 60500 US-40\, Granby\, CO\, 80446\, United States
CATEGORIES:GCRHN Event
ORGANIZER;CN="GCRHN":MAILTO:mail@gcruralhealth.org
END:VEVENT
BEGIN:VEVENT
DTSTART;TZID=America/Denver:20231013T110000
DTEND;TZID=America/Denver:20231013T130000
DTSTAMP:20260422T001136
CREATED:20231003T171344Z
LAST-MODIFIED:20231003T171344Z
UID:5703-1697194800-1697202000@gcruralhealth.org
SUMMARY:Grand Beginnings Community Baby Shower
DESCRIPTION:The Community Baby Shower is more than just a resource fair. It is an event for new and expecting caregivers of children aged 0-1 year to ask questions\, meet people in the community that are going through the same things they are\, and of course to learn about resources available in Grand County all in an enjoyable baby shower setting.
URL:https://gcruralhealth.org/event/grand-beginnings-community-baby-shower/
LOCATION:Granby Public Library\, 55 Zero Street\, Granby
CATEGORIES:GCRHN Event Booth
END:VEVENT
BEGIN:VEVENT
DTSTART;TZID=America/Denver:20231019T160000
DTEND;TZID=America/Denver:20231019T183000
DTSTAMP:20260422T001136
CREATED:20231003T172154Z
LAST-MODIFIED:20231003T172154Z
UID:5707-1697731200-1697740200@gcruralhealth.org
SUMMARY:WPFV Business Expo at Headwaters Center
DESCRIPTION:Winter Park Fraser Valley Business Expo – businesses and non-profits exhibiting their offerings and services\, there will be snacks from food vendor sponsor booths.
URL:https://gcruralhealth.org/event/wpfv-business-expo-at-headwaters-center/
LOCATION:Headwaters Center\, Winter Park\, 730 Baker Drive\, Winter Park
END:VEVENT
BEGIN:VEVENT
DTSTART;TZID=America/Denver:20231019T180000
DTEND;TZID=America/Denver:20231019T200000
DTSTAMP:20260422T001136
CREATED:20230419T173632Z
LAST-MODIFIED:20231012T214457Z
UID:4475-1697738400-1697745600@gcruralhealth.org
SUMMARY:Community Leader Group Meeting
DESCRIPTION:The Grand County Rural Health Network’s Community Leader Group is a group of passionate Grand County residents working to address important issues facing our community. All are welcome to join us on the 3rd Thursday of each month from 6-8 pm. Our meeting is open to the public. \nOur current focus areas are affordable housing\, behavioral health (specifically suicide prevention)\, and preventive health. We invite you to come to our monthly meetings and be a part of the change in our community. \nMeeting location varies\, and this month is will be held at the Fraser Library\, and is also available on Zoom. Email jtibbetts@gcruralhealth.org to get more information and this month’s meeting location or check out our Facebook page. \nTo learn more\, visit: https://gcruralhealth.org/take-action/community-leader-group/.
URL:https://gcruralhealth.org/event/community-leader-group-meeting-14/
LOCATION:CO
END:VEVENT
BEGIN:VEVENT
DTSTART;TZID=America/Denver:20231027T153000
DTEND;TZID=America/Denver:20231027T170000
DTSTAMP:20260422T001136
CREATED:20231004T185555Z
LAST-MODIFIED:20231004T185555Z
UID:5721-1698420600-1698426000@gcruralhealth.org
SUMMARY:Trick or Treat Main Street – Granby
DESCRIPTION:Bring your ghosts and goblins to get treats and information about the services provided by GCRHN!
URL:https://gcruralhealth.org/event/trick-or-treat-main-street-granby/
LOCATION:GCRHN Granby Office\, 191 E. Agate Avenue\, Granby\, CO\, 80446\, United States
CATEGORIES:GCRHN Event Booth
END:VEVENT
END:VCALENDAR