BEGIN:VCALENDAR
VERSION:2.0
PRODID:-//Grand County Rural Health Network - ECPv6.15.17.1//NONSGML v1.0//EN
CALSCALE:GREGORIAN
METHOD:PUBLISH
X-WR-CALNAME:Grand County Rural Health Network
X-ORIGINAL-URL:https://gcruralhealth.org
X-WR-CALDESC:Events for Grand County Rural Health Network
REFRESH-INTERVAL;VALUE=DURATION:PT1H
X-Robots-Tag:noindex
X-PUBLISHED-TTL:PT1H
BEGIN:VTIMEZONE
TZID:America/Denver
BEGIN:DAYLIGHT
TZOFFSETFROM:-0700
TZOFFSETTO:-0600
TZNAME:MDT
DTSTART:20220313T090000
END:DAYLIGHT
BEGIN:STANDARD
TZOFFSETFROM:-0600
TZOFFSETTO:-0700
TZNAME:MST
DTSTART:20221106T080000
END:STANDARD
BEGIN:DAYLIGHT
TZOFFSETFROM:-0700
TZOFFSETTO:-0600
TZNAME:MDT
DTSTART:20230312T090000
END:DAYLIGHT
BEGIN:STANDARD
TZOFFSETFROM:-0600
TZOFFSETTO:-0700
TZNAME:MST
DTSTART:20231105T080000
END:STANDARD
BEGIN:DAYLIGHT
TZOFFSETFROM:-0700
TZOFFSETTO:-0600
TZNAME:MDT
DTSTART:20240310T090000
END:DAYLIGHT
BEGIN:STANDARD
TZOFFSETFROM:-0600
TZOFFSETTO:-0700
TZNAME:MST
DTSTART:20241103T080000
END:STANDARD
END:VTIMEZONE
BEGIN:VEVENT
DTSTART;TZID=America/Denver:20230801T090000
DTEND;TZID=America/Denver:20230801T180000
DTSTAMP:20260422T032306
CREATED:20230717T182318Z
LAST-MODIFIED:20230717T182318Z
UID:5180-1690880400-1690912800@gcruralhealth.org
SUMMARY:North Park School registration – Walden
DESCRIPTION:GCRHN will have an information booth at school registration in Walden with information about our services and ways for families to start the school year healthy!
URL:https://gcruralhealth.org/event/north-park-school-registration-walden/
LOCATION:CO
CATEGORIES:GCRHN Event Booth
END:VEVENT
BEGIN:VEVENT
DTSTART;TZID=America/Denver:20230802T183000
DTEND;TZID=America/Denver:20230802T203000
DTSTAMP:20260422T032306
CREATED:20230419T180343Z
LAST-MODIFIED:20230419T180343Z
UID:4496-1691001000-1691008200@gcruralhealth.org
SUMMARY:GCRHN Board Meeting
DESCRIPTION:Our Grand County Rural Health Network Board of Directors meet the first Wednesday of each month from 6:30-8:30 pm. Meetings may be attended upon invite only. For the meeting location and to request an invite\, please call Jen Fanning at 970-725-3477 or email Jen Fanning by the Monday prior if you are interested in attending. (Board meetings are in-person with a Zoom or Teams link option; please let us know in advance if you will attend virtually.)
URL:https://gcruralhealth.org/event/gcrhn-board-meeting-12/
LOCATION:CO
END:VEVENT
BEGIN:VEVENT
DTSTART;TZID=America/Denver:20230803T170000
DTEND;TZID=America/Denver:20230803T200000
DTSTAMP:20260422T032306
CREATED:20230717T182821Z
LAST-MODIFIED:20230717T182821Z
UID:5184-1691082000-1691092800@gcruralhealth.org
SUMMARY:Granby Music & Market – Polhamus Park
DESCRIPTION:Come see GCRHN at our booth at the Music & Market from 5-8pm! We will have information on all of our services so that you and your family can be healthy and thrive! Need help with insurance – we can help with that too!
URL:https://gcruralhealth.org/event/granby-music-market-polhamus-park/
LOCATION:CO
END:VEVENT
BEGIN:VEVENT
DTSTART;TZID=America/Denver:20230808T160000
DTEND;TZID=America/Denver:20230808T190000
DTSTAMP:20260422T032306
CREATED:20230523T204051Z
LAST-MODIFIED:20230523T204204Z
UID:4812-1691510400-1691521200@gcruralhealth.org
SUMMARY:GCRHN Granby Office Open House
DESCRIPTION:The community is welcome to join us at our NEW satellite office in Granby for our Community Open House! Meet our Rural Health staff\, and check out the Behavioral Health Strategic Plan. More details to come as the event draws closer!
URL:https://gcruralhealth.org/event/gcrhn-granby-office-open-house/
LOCATION:GCRHN Granby Office\, 191 E. Agate Avenue\, Granby\, CO\, 80446\, United States
CATEGORIES:GCRHN Event
ORGANIZER;CN="GCRHN":MAILTO:mail@gcruralhealth.org
END:VEVENT
BEGIN:VEVENT
DTSTART;TZID=America/Denver:20230810T090000
DTEND;TZID=America/Denver:20230810T110000
DTSTAMP:20260422T032306
CREATED:20230702T035802Z
LAST-MODIFIED:20230702T035802Z
UID:5050-1691658000-1691665200@gcruralhealth.org
SUMMARY:Health Insurance Enrollment Event
DESCRIPTION:Join us for our Health Insurance Enrollment Event to be held Thursday\, August 10 from 9 -11 am.\nA Health Coverage Guide will be present to help with Medicaid renewals as well as other insurance options for anyone losing Medicaid coverage.\nLocation: Grand County DHS Office\, 129 E Byers Ave\, Hot Sulphur Springs\, CO 80451
URL:https://gcruralhealth.org/event/health-insurance-enrollment-event-8/
LOCATION:CO
END:VEVENT
BEGIN:VEVENT
DTSTART;TZID=America/Denver:20230817T180000
DTEND;TZID=America/Denver:20230817T200000
DTSTAMP:20260422T032306
CREATED:20230419T173507Z
LAST-MODIFIED:20230717T181108Z
UID:4469-1692295200-1692302400@gcruralhealth.org
SUMMARY:Community Leader Group Meeting – Granby
DESCRIPTION:The Grand County Rural Health Network’s Community Leader Group is a group of passionate Grand County residents working to address important issues facing our community. All are welcome to join us on the 3rd Thursday of each month from 6-8 pm. Our meeting is open to the public. \nOur current focus areas are affordable housing\, behavioral health (specifically suicide prevention)\, and preventive health. We invite you to come to our monthly meetings and be a part of the change in our community. \nMeeting location varies and is also available on Zoom. Email info@gcruralhealth.org to get more information and this month’s meeting location or check out our Facebook page. \nTo learn more\, visit: https://gcruralhealth.org/take-action/community-leader-group/.
URL:https://gcruralhealth.org/event/community-leader-group-meeting-12/
LOCATION:St. John the Baptist Church\, Granby\, Granby
ORGANIZER;CN="GCRHN":MAILTO:mail@gcruralhealth.org
END:VEVENT
END:VCALENDAR