BEGIN:VCALENDAR
VERSION:2.0
PRODID:-//Grand County Rural Health Network - ECPv6.15.17.1//NONSGML v1.0//EN
CALSCALE:GREGORIAN
METHOD:PUBLISH
X-ORIGINAL-URL:https://gcruralhealth.org
X-WR-CALDESC:Events for Grand County Rural Health Network
REFRESH-INTERVAL;VALUE=DURATION:PT1H
X-Robots-Tag:noindex
X-PUBLISHED-TTL:PT1H
BEGIN:VTIMEZONE
TZID:America/Denver
BEGIN:DAYLIGHT
TZOFFSETFROM:-0700
TZOFFSETTO:-0600
TZNAME:MDT
DTSTART:20190310T090000
END:DAYLIGHT
BEGIN:STANDARD
TZOFFSETFROM:-0600
TZOFFSETTO:-0700
TZNAME:MST
DTSTART:20191103T080000
END:STANDARD
BEGIN:DAYLIGHT
TZOFFSETFROM:-0700
TZOFFSETTO:-0600
TZNAME:MDT
DTSTART:20200308T090000
END:DAYLIGHT
BEGIN:STANDARD
TZOFFSETFROM:-0600
TZOFFSETTO:-0700
TZNAME:MST
DTSTART:20201101T080000
END:STANDARD
BEGIN:DAYLIGHT
TZOFFSETFROM:-0700
TZOFFSETTO:-0600
TZNAME:MDT
DTSTART:20210314T090000
END:DAYLIGHT
BEGIN:STANDARD
TZOFFSETFROM:-0600
TZOFFSETTO:-0700
TZNAME:MST
DTSTART:20211107T080000
END:STANDARD
BEGIN:DAYLIGHT
TZOFFSETFROM:-0700
TZOFFSETTO:-0600
TZNAME:MDT
DTSTART:20220313T090000
END:DAYLIGHT
BEGIN:STANDARD
TZOFFSETFROM:-0600
TZOFFSETTO:-0700
TZNAME:MST
DTSTART:20221106T080000
END:STANDARD
BEGIN:DAYLIGHT
TZOFFSETFROM:-0700
TZOFFSETTO:-0600
TZNAME:MDT
DTSTART:20230312T090000
END:DAYLIGHT
BEGIN:STANDARD
TZOFFSETFROM:-0600
TZOFFSETTO:-0700
TZNAME:MST
DTSTART:20231105T080000
END:STANDARD
BEGIN:DAYLIGHT
TZOFFSETFROM:-0700
TZOFFSETTO:-0600
TZNAME:MDT
DTSTART:20240310T090000
END:DAYLIGHT
BEGIN:STANDARD
TZOFFSETFROM:-0600
TZOFFSETTO:-0700
TZNAME:MST
DTSTART:20241103T080000
END:STANDARD
BEGIN:DAYLIGHT
TZOFFSETFROM:-0700
TZOFFSETTO:-0600
TZNAME:MDT
DTSTART:20250309T090000
END:DAYLIGHT
BEGIN:STANDARD
TZOFFSETFROM:-0600
TZOFFSETTO:-0700
TZNAME:MST
DTSTART:20251102T080000
END:STANDARD
BEGIN:DAYLIGHT
TZOFFSETFROM:-0700
TZOFFSETTO:-0600
TZNAME:MDT
DTSTART:20260308T090000
END:DAYLIGHT
BEGIN:STANDARD
TZOFFSETFROM:-0600
TZOFFSETTO:-0700
TZNAME:MST
DTSTART:20261101T080000
END:STANDARD
BEGIN:DAYLIGHT
TZOFFSETFROM:-0700
TZOFFSETTO:-0600
TZNAME:MDT
DTSTART:20270314T090000
END:DAYLIGHT
BEGIN:STANDARD
TZOFFSETFROM:-0600
TZOFFSETTO:-0700
TZNAME:MST
DTSTART:20271107T080000
END:STANDARD
END:VTIMEZONE
BEGIN:VEVENT
DTSTART;TZID=America/Denver:20260304T170000
DTEND;TZID=America/Denver:20260304T190000
DTSTAMP:20260424T115623
CREATED:20260204T203423Z
LAST-MODIFIED:20260204T203637Z
UID:10662-1772643600-1772650800@gcruralhealth.org
SUMMARY:GCRHN Meet & Greet fundraiser at Hideaway Park Brewery in Winter Park
DESCRIPTION:Come meet some members of the GCRHN team and learn more about or services and programs while enjoying Hideaway Park Brewery. Part of proceeds from the evening are donated to GCRHN!
URL:https://gcruralhealth.org/event/gcrhn-meet-greet-fundraiser-at-hideaway-park-brewery-in-winter-park/
LOCATION:Hideaway Park Brewery\, 78927 US-40\, Winter Park\, CO\, United States
CATEGORIES:Fundraisers,GCRHN Event Booth
ORGANIZER;CN="GCRHN":MAILTO:mail@gcruralhealth.org
END:VEVENT
BEGIN:VEVENT
DTSTART;TZID=America/Denver:20260204T170000
DTEND;TZID=America/Denver:20260204T190000
DTSTAMP:20260424T115623
CREATED:20260204T203609Z
LAST-MODIFIED:20260204T203609Z
UID:10665-1770224400-1770231600@gcruralhealth.org
SUMMARY:GCRHN Meet & Greet fundraiser at Hideaway Park Brewery in Winter Park
DESCRIPTION:Come meet some members of the GCRHN team and learn more about or services and programs while enjoying Hideaway Park Brewery. Part of proceeds from the evening are donated to GCRHN!
URL:https://gcruralhealth.org/event/gcrhn-meet-greet-fundraiser-at-hideaway-park-brewery-in-winter-park-2/
LOCATION:Hideaway Park Brewery\, 78927 US-40\, Winter Park\, CO\, United States
CATEGORIES:Fundraisers,GCRHN Event Booth
ORGANIZER;CN="GCRHN":MAILTO:mail@gcruralhealth.org
END:VEVENT
BEGIN:VEVENT
DTSTART;VALUE=DATE:20200909
DTEND;VALUE=DATE:20200916
DTSTAMP:20260424T115623
CREATED:20200819T171350Z
LAST-MODIFIED:20200819T171350Z
UID:849-1599609600-1600214399@gcruralhealth.org
SUMMARY:Gratitude for Grand
DESCRIPTION:Give a High Five for Health\nWe are excited to announce our COVID-adapted fundraiser\, Gratitude for Grand: Give a High Five for Health. This is an opportunity to support and celebrate the people and organizations in Grand County that supported you in being healthy and thriving this year\, especially during the pandemic and corresponding economic and mental health crises\, while rising much-needed funds for the Network. \nWe know that many people and businesses are struggling financially during this time. And we know other businesses have had a great summer and really want to support the community when they are most in need. Please sponsor or donate as you are able\, and join us in practicing gratitude\, supporting all of our mental health and well-being\, and celebrating the people and organizations that help us be healthy and make our community GRAND! \nVisit our Gratitude for Grand page for more details! 
URL:https://gcruralhealth.org/event/gratitude-for-grand/
LOCATION:CO
CATEGORIES:Fundraisers
ATTACH;FMTTYPE=image/png:https://gcruralhealth.org/wp-content/uploads/2020/08/Fundraiser-Website-Revised.png
ORGANIZER;CN="GCRHN":MAILTO:mail@gcruralhealth.org
END:VEVENT
END:VCALENDAR