BEGIN:VCALENDAR
VERSION:2.0
PRODID:-//Grand County Rural Health Network - ECPv6.15.17.1//NONSGML v1.0//EN
CALSCALE:GREGORIAN
METHOD:PUBLISH
X-WR-CALNAME:Grand County Rural Health Network
X-ORIGINAL-URL:https://gcruralhealth.org
X-WR-CALDESC:Events for Grand County Rural Health Network
REFRESH-INTERVAL;VALUE=DURATION:PT1H
X-Robots-Tag:noindex
X-PUBLISHED-TTL:PT1H
BEGIN:VTIMEZONE
TZID:America/Denver
BEGIN:DAYLIGHT
TZOFFSETFROM:-0700
TZOFFSETTO:-0600
TZNAME:MDT
DTSTART:20240310T090000
END:DAYLIGHT
BEGIN:STANDARD
TZOFFSETFROM:-0600
TZOFFSETTO:-0700
TZNAME:MST
DTSTART:20241103T080000
END:STANDARD
BEGIN:DAYLIGHT
TZOFFSETFROM:-0700
TZOFFSETTO:-0600
TZNAME:MDT
DTSTART:20250309T090000
END:DAYLIGHT
BEGIN:STANDARD
TZOFFSETFROM:-0600
TZOFFSETTO:-0700
TZNAME:MST
DTSTART:20251102T080000
END:STANDARD
BEGIN:DAYLIGHT
TZOFFSETFROM:-0700
TZOFFSETTO:-0600
TZNAME:MDT
DTSTART:20260308T090000
END:DAYLIGHT
BEGIN:STANDARD
TZOFFSETFROM:-0600
TZOFFSETTO:-0700
TZNAME:MST
DTSTART:20261101T080000
END:STANDARD
END:VTIMEZONE
BEGIN:VEVENT
DTSTART;VALUE=DATE:20250405
DTEND;VALUE=DATE:20250406
DTSTAMP:20260420T034728
CREATED:20250312T170508Z
LAST-MODIFIED:20250312T170508Z
UID:8147-1743811200-1743897599@gcruralhealth.org
SUMMARY:Walden Health Fair
DESCRIPTION:
URL:https://gcruralhealth.org/event/walden-health-fair/
LOCATION:North Park High School\, 910 4th St.\, Walden\, CO\, 80480
CATEGORIES:GCRHN Event Booth
END:VEVENT
BEGIN:VEVENT
DTSTART;VALUE=DATE:20250405
DTEND;VALUE=DATE:20250406
DTSTAMP:20260420T034728
CREATED:20250312T173140Z
LAST-MODIFIED:20250312T173140Z
UID:8145-1743811200-1743897599@gcruralhealth.org
SUMMARY:Walden Health Fair –
DESCRIPTION:
URL:https://gcruralhealth.org/event/walden-health-fair-2/
LOCATION:North Park Clinic\, 350 Mc Kinley St.\, Walden\, CO\, 80480\, United States
CATEGORIES:GCRHN Event Booth
END:VEVENT
END:VCALENDAR