BEGIN:VCALENDAR
VERSION:2.0
PRODID:-//Grand County Rural Health Network - ECPv6.15.17.1//NONSGML v1.0//EN
CALSCALE:GREGORIAN
METHOD:PUBLISH
X-WR-CALNAME:Grand County Rural Health Network
X-ORIGINAL-URL:https://gcruralhealth.org
X-WR-CALDESC:Events for Grand County Rural Health Network
REFRESH-INTERVAL;VALUE=DURATION:PT1H
X-Robots-Tag:noindex
X-PUBLISHED-TTL:PT1H
BEGIN:VTIMEZONE
TZID:America/Denver
BEGIN:DAYLIGHT
TZOFFSETFROM:-0700
TZOFFSETTO:-0600
TZNAME:MDT
DTSTART:20230312T090000
END:DAYLIGHT
BEGIN:STANDARD
TZOFFSETFROM:-0600
TZOFFSETTO:-0700
TZNAME:MST
DTSTART:20231105T080000
END:STANDARD
BEGIN:DAYLIGHT
TZOFFSETFROM:-0700
TZOFFSETTO:-0600
TZNAME:MDT
DTSTART:20240310T090000
END:DAYLIGHT
BEGIN:STANDARD
TZOFFSETFROM:-0600
TZOFFSETTO:-0700
TZNAME:MST
DTSTART:20241103T080000
END:STANDARD
BEGIN:DAYLIGHT
TZOFFSETFROM:-0700
TZOFFSETTO:-0600
TZNAME:MDT
DTSTART:20250309T090000
END:DAYLIGHT
BEGIN:STANDARD
TZOFFSETFROM:-0600
TZOFFSETTO:-0700
TZNAME:MST
DTSTART:20251102T080000
END:STANDARD
END:VTIMEZONE
BEGIN:VEVENT
DTSTART;TZID=America/Denver:20241227T100000
DTEND;TZID=America/Denver:20241227T140000
DTSTAMP:20260420T094250
CREATED:20241210T232939Z
LAST-MODIFIED:20241210T232939Z
UID:7875-1735293600-1735308000@gcruralhealth.org
SUMMARY:Healthcare Coverage enrollment event at Fraser Library – 10am to 2pm\, no appointment needed\, help in English/Spanish
DESCRIPTION:Enrollment Event – Fraser\nWhen : December 27th \, 2024 from 10 am –  2pm\nWhere: Fraser Library \, 421 Norgrenn Rd\, Fraser\, Co 80442\nSpecific Location: Large Study Room\n\n\nOpen Enrollment for Health Insurance goes through January 15\, 2024.\n\nJoin us on Friday\, December 27th at the Fraser Library (Large Study Room) from 10am to 2pm for FREE help from a certified Health Coverage Guide on the spot!\n\nNo appointment needed\, walk-ins are welcome! Assistance is available in English and Spanish.
URL:https://gcruralhealth.org/event/healthcare-coverage-enrollment-event-at-fraser-library-10am-to-2pm-no-appointment-needed-help-in-english-spanish/
LOCATION:Fraser Library
END:VEVENT
END:VCALENDAR