BEGIN:VCALENDAR
VERSION:2.0
PRODID:-//Grand County Rural Health Network - ECPv6.15.17.1//NONSGML v1.0//EN
CALSCALE:GREGORIAN
METHOD:PUBLISH
X-ORIGINAL-URL:https://gcruralhealth.org
X-WR-CALDESC:Events for Grand County Rural Health Network
REFRESH-INTERVAL;VALUE=DURATION:PT1H
X-Robots-Tag:noindex
X-PUBLISHED-TTL:PT1H
BEGIN:VTIMEZONE
TZID:America/Denver
BEGIN:DAYLIGHT
TZOFFSETFROM:-0700
TZOFFSETTO:-0600
TZNAME:MDT
DTSTART:20230312T090000
END:DAYLIGHT
BEGIN:STANDARD
TZOFFSETFROM:-0600
TZOFFSETTO:-0700
TZNAME:MST
DTSTART:20231105T080000
END:STANDARD
BEGIN:DAYLIGHT
TZOFFSETFROM:-0700
TZOFFSETTO:-0600
TZNAME:MDT
DTSTART:20240310T090000
END:DAYLIGHT
BEGIN:STANDARD
TZOFFSETFROM:-0600
TZOFFSETTO:-0700
TZNAME:MST
DTSTART:20241103T080000
END:STANDARD
BEGIN:DAYLIGHT
TZOFFSETFROM:-0700
TZOFFSETTO:-0600
TZNAME:MDT
DTSTART:20250309T090000
END:DAYLIGHT
BEGIN:STANDARD
TZOFFSETFROM:-0600
TZOFFSETTO:-0700
TZNAME:MST
DTSTART:20251102T080000
END:STANDARD
END:VTIMEZONE
BEGIN:VEVENT
DTSTART;TZID=America/Denver:20241216T130000
DTEND;TZID=America/Denver:20241216T170000
DTSTAMP:20260420T093802
CREATED:20241210T231752Z
LAST-MODIFIED:20241210T233617Z
UID:7868-1734354000-1734368400@gcruralhealth.org
SUMMARY:Kremmling Library English/Spanish Health Coverage Enrollment Event – walk in\, no appointment needed 1-5pm
DESCRIPTION:Enrollment Event – Kremmling\nWhen : December 16th\, 2024 from 1 pm –  5pm\nWhere: Kremmling Library \, 300 S.  8th St\, Kremmling\, CO 80459\nSpecific Location: Study Room
URL:https://gcruralhealth.org/event/english-spanish-health-coverage-enrollment-event-walk-in-no-appointment-needed/
LOCATION:Kremmling Library\, 300 S. 8th St.\, Kremmling\, CO\, United States
ORGANIZER;CN="GCRHN":MAILTO:mail@gcruralhealth.org
END:VEVENT
END:VCALENDAR