BEGIN:VCALENDAR
VERSION:2.0
PRODID:-//Grand County Rural Health Network - ECPv6.15.17.1//NONSGML v1.0//EN
CALSCALE:GREGORIAN
METHOD:PUBLISH
X-ORIGINAL-URL:https://gcruralhealth.org
X-WR-CALDESC:Events for Grand County Rural Health Network
REFRESH-INTERVAL;VALUE=DURATION:PT1H
X-Robots-Tag:noindex
X-PUBLISHED-TTL:PT1H
BEGIN:VTIMEZONE
TZID:America/Denver
BEGIN:DAYLIGHT
TZOFFSETFROM:-0700
TZOFFSETTO:-0600
TZNAME:MDT
DTSTART:20230312T090000
END:DAYLIGHT
BEGIN:STANDARD
TZOFFSETFROM:-0600
TZOFFSETTO:-0700
TZNAME:MST
DTSTART:20231105T080000
END:STANDARD
BEGIN:DAYLIGHT
TZOFFSETFROM:-0700
TZOFFSETTO:-0600
TZNAME:MDT
DTSTART:20240310T090000
END:DAYLIGHT
BEGIN:STANDARD
TZOFFSETFROM:-0600
TZOFFSETTO:-0700
TZNAME:MST
DTSTART:20241103T080000
END:STANDARD
BEGIN:DAYLIGHT
TZOFFSETFROM:-0700
TZOFFSETTO:-0600
TZNAME:MDT
DTSTART:20250309T090000
END:DAYLIGHT
BEGIN:STANDARD
TZOFFSETFROM:-0600
TZOFFSETTO:-0700
TZNAME:MST
DTSTART:20251102T080000
END:STANDARD
END:VTIMEZONE
BEGIN:VEVENT
DTSTART;TZID=America/Denver:20241213T110000
DTEND;TZID=America/Denver:20241213T160000
DTSTAMP:20260420T093747
CREATED:20241210T232653Z
LAST-MODIFIED:20241210T233525Z
UID:7872-1734087600-1734105600@gcruralhealth.org
SUMMARY:Healthcare Coverage enrollment event at Granby Library 11am to 4pm – no appointment needed\, help in English/Spanish
DESCRIPTION:When : December 13th \, 2024 from 11am – 4pm\nWhere: Granby Library \, 55 Zero St\, Granby\, CO 80446\nSpecific Location: Large Study Room\nEnglish and Spanish help available\n\n\nOpen Enrollment for Health Insurance goes through January 15\, 2024\, but December 15 is the deadline for coverage that will be effective starting January 1!\nJoin us this Friday\, December 13th at the Granby Library (Large Study Room) from 11am to 4pm for FREE help from a certified Health Coverage Guide on the spot!\nNo appointment needed\, walk-ins are welcome! Assistance is available in English and Spanish.
URL:https://gcruralhealth.org/event/healthcare-coverage-enrollment-event-at-granby-library-no-appointment-needed-english-spanish/
LOCATION:Granby Public Library\, 55 Zero Street\, Granby
ORGANIZER;CN="GCRHN":MAILTO:mail@gcruralhealth.org
END:VEVENT
BEGIN:VEVENT
DTSTART;TZID=America/Denver:20241213T120000
DTEND;TZID=America/Denver:20241213T133000
DTSTAMP:20260420T093747
CREATED:20241209T182025Z
LAST-MODIFIED:20241209T182447Z
UID:7857-1734091200-1734096600@gcruralhealth.org
SUMMARY:Hot Springs & Hard Topics (not just recovery focused) – 12pm
DESCRIPTION:Meet us at the main building at the HSS Hot Springs to have conversations about recovery\, life or any topic where you might need ideas or support. Discussion will be lead by Stevie Kitterman\, GC Rural Heath Network’s Lead Recovery Coordinator. If you have questions\, please call Stevie or Katie at 970-725-3477.
URL:https://gcruralhealth.org/event/hot-springs-hard-conversations-12pm/
LOCATION:HSS Hot Springs – main building\, 5609 Spring Road\, Hot Sulphur Springs\, CO\, 80451\, United States
ORGANIZER;CN="GCRHN":MAILTO:mail@gcruralhealth.org
END:VEVENT
END:VCALENDAR