BEGIN:VCALENDAR
VERSION:2.0
PRODID:-//Grand County Rural Health Network - ECPv6.15.17.1//NONSGML v1.0//EN
CALSCALE:GREGORIAN
METHOD:PUBLISH
X-ORIGINAL-URL:https://gcruralhealth.org
X-WR-CALDESC:Events for Grand County Rural Health Network
REFRESH-INTERVAL;VALUE=DURATION:PT1H
X-Robots-Tag:noindex
X-PUBLISHED-TTL:PT1H
BEGIN:VTIMEZONE
TZID:America/Denver
BEGIN:DAYLIGHT
TZOFFSETFROM:-0700
TZOFFSETTO:-0600
TZNAME:MDT
DTSTART:20230312T090000
END:DAYLIGHT
BEGIN:STANDARD
TZOFFSETFROM:-0600
TZOFFSETTO:-0700
TZNAME:MST
DTSTART:20231105T080000
END:STANDARD
BEGIN:DAYLIGHT
TZOFFSETFROM:-0700
TZOFFSETTO:-0600
TZNAME:MDT
DTSTART:20240310T090000
END:DAYLIGHT
BEGIN:STANDARD
TZOFFSETFROM:-0600
TZOFFSETTO:-0700
TZNAME:MST
DTSTART:20241103T080000
END:STANDARD
BEGIN:DAYLIGHT
TZOFFSETFROM:-0700
TZOFFSETTO:-0600
TZNAME:MDT
DTSTART:20250309T090000
END:DAYLIGHT
BEGIN:STANDARD
TZOFFSETFROM:-0600
TZOFFSETTO:-0700
TZNAME:MST
DTSTART:20251102T080000
END:STANDARD
END:VTIMEZONE
BEGIN:VEVENT
DTSTART;TZID=America/Denver:20241108T200000
DTEND;TZID=America/Denver:20241108T210000
DTSTAMP:20260420T110223
CREATED:20241024T184214Z
LAST-MODIFIED:20241024T184214Z
UID:7549-1731096000-1731099600@gcruralhealth.org
SUMMARY:Health Insurance Educational Event in Spanish- Evento Educacional acerca de la Cobertura de Salud en CO – Kremmling
DESCRIPTION:There is also a Zoom option to attend: https://us02web.zoom.us/j/87158592606?pwd=tKE7mjvkTG9k9VPrCj5DvtlSrqUrHT.1
URL:https://gcruralhealth.org/event/health-insurance-educational-event-in-spanish-evento-educacional-acerca-de-la-cobertura-de-salud-en-co-kremmling/
LOCATION:St\, Peters Catholic Church\, 106 5th St.\, Kremmling\, CO\, 80459\, United States
ORGANIZER;CN="GCRHN":MAILTO:mail@gcruralhealth.org
END:VEVENT
END:VCALENDAR