BEGIN:VCALENDAR
VERSION:2.0
PRODID:-//Grand County Rural Health Network - ECPv6.15.17.1//NONSGML v1.0//EN
CALSCALE:GREGORIAN
METHOD:PUBLISH
X-ORIGINAL-URL:https://gcruralhealth.org
X-WR-CALDESC:Events for Grand County Rural Health Network
REFRESH-INTERVAL;VALUE=DURATION:PT1H
X-Robots-Tag:noindex
X-PUBLISHED-TTL:PT1H
BEGIN:VTIMEZONE
TZID:America/Denver
BEGIN:DAYLIGHT
TZOFFSETFROM:-0700
TZOFFSETTO:-0600
TZNAME:MDT
DTSTART:20230312T090000
END:DAYLIGHT
BEGIN:STANDARD
TZOFFSETFROM:-0600
TZOFFSETTO:-0700
TZNAME:MST
DTSTART:20231105T080000
END:STANDARD
BEGIN:DAYLIGHT
TZOFFSETFROM:-0700
TZOFFSETTO:-0600
TZNAME:MDT
DTSTART:20240310T090000
END:DAYLIGHT
BEGIN:STANDARD
TZOFFSETFROM:-0600
TZOFFSETTO:-0700
TZNAME:MST
DTSTART:20241103T080000
END:STANDARD
BEGIN:DAYLIGHT
TZOFFSETFROM:-0700
TZOFFSETTO:-0600
TZNAME:MDT
DTSTART:20250309T090000
END:DAYLIGHT
BEGIN:STANDARD
TZOFFSETFROM:-0600
TZOFFSETTO:-0700
TZNAME:MST
DTSTART:20251102T080000
END:STANDARD
END:VTIMEZONE
BEGIN:VEVENT
DTSTART;TZID=America/Denver:20241025T160000
DTEND;TZID=America/Denver:20241025T180000
DTSTAMP:20260420T232630
CREATED:20241007T183339Z
LAST-MODIFIED:20241007T183339Z
UID:7491-1729872000-1729879200@gcruralhealth.org
SUMMARY:Granby Trick or Treat Street
DESCRIPTION:
URL:https://gcruralhealth.org/event/granby-trick-or-treat-street/
LOCATION:GCRHN Granby Office\, 191 E. Agate Avenue\, Granby\, CO\, 80446\, United States
END:VEVENT
END:VCALENDAR