BEGIN:VCALENDAR
VERSION:2.0
PRODID:-//Grand County Rural Health Network - ECPv6.15.17.1//NONSGML v1.0//EN
CALSCALE:GREGORIAN
METHOD:PUBLISH
X-WR-CALNAME:Grand County Rural Health Network
X-ORIGINAL-URL:https://gcruralhealth.org
X-WR-CALDESC:Events for Grand County Rural Health Network
REFRESH-INTERVAL;VALUE=DURATION:PT1H
X-Robots-Tag:noindex
X-PUBLISHED-TTL:PT1H
BEGIN:VTIMEZONE
TZID:America/Denver
BEGIN:DAYLIGHT
TZOFFSETFROM:-0700
TZOFFSETTO:-0600
TZNAME:MDT
DTSTART:20230312T090000
END:DAYLIGHT
BEGIN:STANDARD
TZOFFSETFROM:-0600
TZOFFSETTO:-0700
TZNAME:MST
DTSTART:20231105T080000
END:STANDARD
BEGIN:DAYLIGHT
TZOFFSETFROM:-0700
TZOFFSETTO:-0600
TZNAME:MDT
DTSTART:20240310T090000
END:DAYLIGHT
BEGIN:STANDARD
TZOFFSETFROM:-0600
TZOFFSETTO:-0700
TZNAME:MST
DTSTART:20241103T080000
END:STANDARD
BEGIN:DAYLIGHT
TZOFFSETFROM:-0700
TZOFFSETTO:-0600
TZNAME:MDT
DTSTART:20250309T090000
END:DAYLIGHT
BEGIN:STANDARD
TZOFFSETFROM:-0600
TZOFFSETTO:-0700
TZNAME:MST
DTSTART:20251102T080000
END:STANDARD
END:VTIMEZONE
BEGIN:VEVENT
DTSTART;TZID=America/Denver:20240907T100000
DTEND;TZID=America/Denver:20240907T200000
DTSTAMP:20260421T065927
CREATED:20240715T183252Z
LAST-MODIFIED:20240715T183355Z
UID:7171-1725703200-1725739200@gcruralhealth.org
SUMMARY:Community IMPACT Team and Tame Wellness Sober Choice collaboration at Troublesome Fest!
DESCRIPTION:Please join the Community IMPACT Team at the Troublesome Fest for our collaboration with Tame Wellness! There will be space for games\, snacks\, and connecting with old and new friends!
URL:https://gcruralhealth.org/event/community-impact-team-and-tame-wellness-collaboration-at-troublesome-fest/
LOCATION:CO
ORGANIZER;CN="GCRHN":MAILTO:mail@gcruralhealth.org
END:VEVENT
END:VCALENDAR