BEGIN:VCALENDAR
VERSION:2.0
PRODID:-//Grand County Rural Health Network - ECPv6.15.17.1//NONSGML v1.0//EN
CALSCALE:GREGORIAN
METHOD:PUBLISH
X-ORIGINAL-URL:https://gcruralhealth.org
X-WR-CALDESC:Events for Grand County Rural Health Network
REFRESH-INTERVAL;VALUE=DURATION:PT1H
X-Robots-Tag:noindex
X-PUBLISHED-TTL:PT1H
BEGIN:VTIMEZONE
TZID:America/Denver
BEGIN:DAYLIGHT
TZOFFSETFROM:-0700
TZOFFSETTO:-0600
TZNAME:MDT
DTSTART:20230312T090000
END:DAYLIGHT
BEGIN:STANDARD
TZOFFSETFROM:-0600
TZOFFSETTO:-0700
TZNAME:MST
DTSTART:20231105T080000
END:STANDARD
BEGIN:DAYLIGHT
TZOFFSETFROM:-0700
TZOFFSETTO:-0600
TZNAME:MDT
DTSTART:20240310T090000
END:DAYLIGHT
BEGIN:STANDARD
TZOFFSETFROM:-0600
TZOFFSETTO:-0700
TZNAME:MST
DTSTART:20241103T080000
END:STANDARD
BEGIN:DAYLIGHT
TZOFFSETFROM:-0700
TZOFFSETTO:-0600
TZNAME:MDT
DTSTART:20250309T090000
END:DAYLIGHT
BEGIN:STANDARD
TZOFFSETFROM:-0600
TZOFFSETTO:-0700
TZNAME:MST
DTSTART:20251102T080000
END:STANDARD
END:VTIMEZONE
BEGIN:VEVENT
DTSTART;TZID=America/Denver:20240411T150000
DTEND;TZID=America/Denver:20240411T170000
DTSTAMP:20260421T152336
CREATED:20240403T185107Z
LAST-MODIFIED:20240403T185107Z
UID:6563-1712847600-1712854800@gcruralhealth.org
SUMMARY:Behavioral Health Strategic Plan quarterly meeting
DESCRIPTION:  \nPlease remember to bring organizational data that you can share that informs the work or needs in the behavioral health strategic plan. \nLocation: Middle Park High School or on Zoom: \nJoin Zoom Meeting  \nhttps://us02web.zoom.us/j/82404304210?pwd=d2FDalZlSExoZ2N2Ri9UdWpFOXRrQT09  \nMeeting ID: 824 0430 4210  \nPasscode: 118086  \nOne tap mobile  \n+17193594580\,\,82404304210#\,\,\,\,*118086# US  \n+12532050468\,\,82404304210#\,\,\,\,*118086# US 
URL:https://gcruralhealth.org/event/behavioral-health-strategic-plan-quarterly-meeting/
LOCATION:Middle Park High School\, 795 N 2nd St\, Granby\, CO\, 80446\, United States
END:VEVENT
END:VCALENDAR