BEGIN:VCALENDAR
VERSION:2.0
PRODID:-//Grand County Rural Health Network - ECPv6.15.17.1//NONSGML v1.0//EN
CALSCALE:GREGORIAN
METHOD:PUBLISH
X-ORIGINAL-URL:https://gcruralhealth.org
X-WR-CALDESC:Events for Grand County Rural Health Network
REFRESH-INTERVAL;VALUE=DURATION:PT1H
X-Robots-Tag:noindex
X-PUBLISHED-TTL:PT1H
BEGIN:VTIMEZONE
TZID:America/Denver
BEGIN:DAYLIGHT
TZOFFSETFROM:-0700
TZOFFSETTO:-0600
TZNAME:MDT
DTSTART:20230312T090000
END:DAYLIGHT
BEGIN:STANDARD
TZOFFSETFROM:-0600
TZOFFSETTO:-0700
TZNAME:MST
DTSTART:20231105T080000
END:STANDARD
BEGIN:DAYLIGHT
TZOFFSETFROM:-0700
TZOFFSETTO:-0600
TZNAME:MDT
DTSTART:20240310T090000
END:DAYLIGHT
BEGIN:STANDARD
TZOFFSETFROM:-0600
TZOFFSETTO:-0700
TZNAME:MST
DTSTART:20241103T080000
END:STANDARD
BEGIN:DAYLIGHT
TZOFFSETFROM:-0700
TZOFFSETTO:-0600
TZNAME:MDT
DTSTART:20250309T090000
END:DAYLIGHT
BEGIN:STANDARD
TZOFFSETFROM:-0600
TZOFFSETTO:-0700
TZNAME:MST
DTSTART:20251102T080000
END:STANDARD
END:VTIMEZONE
BEGIN:VEVENT
DTSTART;TZID=America/Denver:20240215T120000
DTEND;TZID=America/Denver:20240215T130000
DTSTAMP:20260421T183256
CREATED:20240129T180417Z
LAST-MODIFIED:20240129T180417Z
UID:6429-1707998400-1708002000@gcruralhealth.org
SUMMARY:All Recovery Meeting virtual or in-person 2-15-24
DESCRIPTION:All Recovery Meetings honor all pathways to recovery and are for everyone who supports recovery.  The meetings are non-denominational and focus on the hope found in recovery. Recovery happens in community. Join us and connect with others who are starting and maintaining a recovery lifestyle. \nThursdays from 12-1pm\, Virtual on Zoom or in-person in Winter Park. For more information\, call Stevie at 970-725-3477 or email skitterman@gcruralhealth.org \nCan’t make at this time? Contact Stevie to learn about other virtual and in-person recovery meeting options.
URL:https://gcruralhealth.org/event/all-recovery-meeting-virtual-or-in-person-2-15-24/
LOCATION:CO
END:VEVENT
BEGIN:VEVENT
DTSTART;TZID=America/Denver:20240215T183000
DTEND;TZID=America/Denver:20240215T203000
DTSTAMP:20260421T183256
CREATED:20231214T184152Z
LAST-MODIFIED:20231214T184152Z
UID:6309-1708021800-1708029000@gcruralhealth.org
SUMMARY:Community Leader Group meeting – all are welcome!
DESCRIPTION:The Grand County Rural Health Network’s Community Leader Group is a group of passionate Grand County residents working to address important issues facing our community. All are welcome to join us on the 3rd Thursday of each month from 6-8 pm. Our meeting is open to the public. \nOur current focus areas are affordable housing\, behavioral health (including substance use and suicide prevention)\, and preventive health. We invite you to come to our monthly meetings and be a part of the change in our community. \nMeeting location varies monthly in different parts of the county\, and the meetings are also available on Zoom (see link below). Email jtibbetts@gcruralhealth.org to get more information and this month’s meeting location or check out our Facebook page. \nJoin the Zoom Meeting: https://us02web.zoom.us/j/86349563400 \nTo learn more\, visit: https://gcruralhealth.org/take-action/community-leader-group/.
URL:https://gcruralhealth.org/event/community-leader-group-meeting-all-are-welcome-2/
LOCATION:CO
CATEGORIES:GCRHN Event
END:VEVENT
END:VCALENDAR