BEGIN:VCALENDAR
VERSION:2.0
PRODID:-//Grand County Rural Health Network - ECPv6.15.17.1//NONSGML v1.0//EN
CALSCALE:GREGORIAN
METHOD:PUBLISH
X-ORIGINAL-URL:https://gcruralhealth.org
X-WR-CALDESC:Events for Grand County Rural Health Network
REFRESH-INTERVAL;VALUE=DURATION:PT1H
X-Robots-Tag:noindex
X-PUBLISHED-TTL:PT1H
BEGIN:VTIMEZONE
TZID:America/Denver
BEGIN:DAYLIGHT
TZOFFSETFROM:-0700
TZOFFSETTO:-0600
TZNAME:MDT
DTSTART:20230312T090000
END:DAYLIGHT
BEGIN:STANDARD
TZOFFSETFROM:-0600
TZOFFSETTO:-0700
TZNAME:MST
DTSTART:20231105T080000
END:STANDARD
BEGIN:DAYLIGHT
TZOFFSETFROM:-0700
TZOFFSETTO:-0600
TZNAME:MDT
DTSTART:20240310T090000
END:DAYLIGHT
BEGIN:STANDARD
TZOFFSETFROM:-0600
TZOFFSETTO:-0700
TZNAME:MST
DTSTART:20241103T080000
END:STANDARD
BEGIN:DAYLIGHT
TZOFFSETFROM:-0700
TZOFFSETTO:-0600
TZNAME:MDT
DTSTART:20250309T090000
END:DAYLIGHT
BEGIN:STANDARD
TZOFFSETFROM:-0600
TZOFFSETTO:-0700
TZNAME:MST
DTSTART:20251102T080000
END:STANDARD
END:VTIMEZONE
BEGIN:VEVENT
DTSTART;TZID=America/Denver:20240104T120000
DTEND;TZID=America/Denver:20240104T130000
DTSTAMP:20260421T203829
CREATED:20231218T204027Z
LAST-MODIFIED:20231218T204149Z
UID:6332-1704369600-1704373200@gcruralhealth.org
SUMMARY:All Recovery Meeting virtual or in-person
DESCRIPTION:All Recovery Meetings honor all pathways to recovery and are for everyone who supports recovery.  The meetings are non-denominational and focus on the hope found in recovery. Recovery happens in community. Join us and connect with others who are starting and maintaining a recovery lifestyle. \nThursdays from 12-1pm\, Virtual on Zoom or in-person in Winter Park. For more information\, call Stevie at 970-725-3477 or email skitterman@gcruralhealth.org \nCan’t make at this time? Contact Stevie to learn about other virtual and in-person recovery meeting options.
URL:https://gcruralhealth.org/event/recovery-meeting-in-person-or-virtual-2/
LOCATION:CO
CATEGORIES:GCRHN Event
ORGANIZER;CN="GCRHN":MAILTO:mail@gcruralhealth.org
END:VEVENT
END:VCALENDAR