BEGIN:VCALENDAR
VERSION:2.0
PRODID:-//Grand County Rural Health Network - ECPv6.15.17.1//NONSGML v1.0//EN
CALSCALE:GREGORIAN
METHOD:PUBLISH
X-WR-CALNAME:Grand County Rural Health Network
X-ORIGINAL-URL:https://gcruralhealth.org
X-WR-CALDESC:Events for Grand County Rural Health Network
REFRESH-INTERVAL;VALUE=DURATION:PT1H
X-Robots-Tag:noindex
X-PUBLISHED-TTL:PT1H
BEGIN:VTIMEZONE
TZID:America/Denver
BEGIN:DAYLIGHT
TZOFFSETFROM:-0700
TZOFFSETTO:-0600
TZNAME:MDT
DTSTART:20220313T090000
END:DAYLIGHT
BEGIN:STANDARD
TZOFFSETFROM:-0600
TZOFFSETTO:-0700
TZNAME:MST
DTSTART:20221106T080000
END:STANDARD
BEGIN:DAYLIGHT
TZOFFSETFROM:-0700
TZOFFSETTO:-0600
TZNAME:MDT
DTSTART:20230312T090000
END:DAYLIGHT
BEGIN:STANDARD
TZOFFSETFROM:-0600
TZOFFSETTO:-0700
TZNAME:MST
DTSTART:20231105T080000
END:STANDARD
BEGIN:DAYLIGHT
TZOFFSETFROM:-0700
TZOFFSETTO:-0600
TZNAME:MDT
DTSTART:20240310T090000
END:DAYLIGHT
BEGIN:STANDARD
TZOFFSETFROM:-0600
TZOFFSETTO:-0700
TZNAME:MST
DTSTART:20241103T080000
END:STANDARD
END:VTIMEZONE
BEGIN:VEVENT
DTSTART;TZID=America/Denver:20231222T120000
DTEND;TZID=America/Denver:20231222T170000
DTSTAMP:20260421T221539
CREATED:20230421T201832Z
LAST-MODIFIED:20230421T201832Z
UID:4531-1703246400-1703264400@gcruralhealth.org
SUMMARY:GCRHN Office Closes at Noon
DESCRIPTION:In observance of Christmas Eve\, our offices will close at noon today.
URL:https://gcruralhealth.org/event/gcrhn-office-closes-at-noon/
LOCATION:CO
END:VEVENT
END:VCALENDAR