BEGIN:VCALENDAR
VERSION:2.0
PRODID:-//Grand County Rural Health Network - ECPv6.15.17.1//NONSGML v1.0//EN
CALSCALE:GREGORIAN
METHOD:PUBLISH
X-ORIGINAL-URL:https://gcruralhealth.org
X-WR-CALDESC:Events for Grand County Rural Health Network
REFRESH-INTERVAL;VALUE=DURATION:PT1H
X-Robots-Tag:noindex
X-PUBLISHED-TTL:PT1H
BEGIN:VTIMEZONE
TZID:America/Denver
BEGIN:DAYLIGHT
TZOFFSETFROM:-0700
TZOFFSETTO:-0600
TZNAME:MDT
DTSTART:20220313T090000
END:DAYLIGHT
BEGIN:STANDARD
TZOFFSETFROM:-0600
TZOFFSETTO:-0700
TZNAME:MST
DTSTART:20221106T080000
END:STANDARD
BEGIN:DAYLIGHT
TZOFFSETFROM:-0700
TZOFFSETTO:-0600
TZNAME:MDT
DTSTART:20230312T090000
END:DAYLIGHT
BEGIN:STANDARD
TZOFFSETFROM:-0600
TZOFFSETTO:-0700
TZNAME:MST
DTSTART:20231105T080000
END:STANDARD
BEGIN:DAYLIGHT
TZOFFSETFROM:-0700
TZOFFSETTO:-0600
TZNAME:MDT
DTSTART:20240310T090000
END:DAYLIGHT
BEGIN:STANDARD
TZOFFSETFROM:-0600
TZOFFSETTO:-0700
TZNAME:MST
DTSTART:20241103T080000
END:STANDARD
END:VTIMEZONE
BEGIN:VEVENT
DTSTART;TZID=America/Denver:20231212T100000
DTEND;TZID=America/Denver:20231212T130000
DTSTAMP:20260421T222451
CREATED:20231127T173457Z
LAST-MODIFIED:20231129T192037Z
UID:6164-1702375200-1702386000@gcruralhealth.org
SUMMARY:Health Insurance Enrollment Event – Walden
DESCRIPTION:Join us for our Health Insurance Enrollment Event on Tuesday\, December 12 from 10 am-1 pm. \nA Health Coverage Guide will be present to help with health insurance options\, including Medicaid renewals. \nLocation: North Park Clinic\, 350 Mc Kinley St.\, Walden\, CO 80480
URL:https://gcruralhealth.org/event/health-insurance-enrollment-event-9/
LOCATION:North Park Clinic\, 350 Mc Kinley St.\, Walden\, CO\, 80480\, United States
CATEGORIES:GCRHN Event
END:VEVENT
END:VCALENDAR