BEGIN:VCALENDAR
VERSION:2.0
PRODID:-//Grand County Rural Health Network - ECPv6.15.17.1//NONSGML v1.0//EN
CALSCALE:GREGORIAN
METHOD:PUBLISH
X-WR-CALNAME:Grand County Rural Health Network
X-ORIGINAL-URL:https://gcruralhealth.org
X-WR-CALDESC:Events for Grand County Rural Health Network
REFRESH-INTERVAL;VALUE=DURATION:PT1H
X-Robots-Tag:noindex
X-PUBLISHED-TTL:PT1H
BEGIN:VTIMEZONE
TZID:America/Denver
BEGIN:DAYLIGHT
TZOFFSETFROM:-0700
TZOFFSETTO:-0600
TZNAME:MDT
DTSTART:20220313T090000
END:DAYLIGHT
BEGIN:STANDARD
TZOFFSETFROM:-0600
TZOFFSETTO:-0700
TZNAME:MST
DTSTART:20221106T080000
END:STANDARD
BEGIN:DAYLIGHT
TZOFFSETFROM:-0700
TZOFFSETTO:-0600
TZNAME:MDT
DTSTART:20230312T090000
END:DAYLIGHT
BEGIN:STANDARD
TZOFFSETFROM:-0600
TZOFFSETTO:-0700
TZNAME:MST
DTSTART:20231105T080000
END:STANDARD
BEGIN:DAYLIGHT
TZOFFSETFROM:-0700
TZOFFSETTO:-0600
TZNAME:MDT
DTSTART:20240310T090000
END:DAYLIGHT
BEGIN:STANDARD
TZOFFSETFROM:-0600
TZOFFSETTO:-0700
TZNAME:MST
DTSTART:20241103T080000
END:STANDARD
END:VTIMEZONE
BEGIN:VEVENT
DTSTART;VALUE=DATE:20231205
DTEND;VALUE=DATE:20231206
DTSTAMP:20260421T222426
CREATED:20231031T191826Z
LAST-MODIFIED:20231031T191959Z
UID:5899-1701734400-1701820799@gcruralhealth.org
SUMMARY:Colorado Gives Day – https://www.coloradogives.org/organization/GrandCountyRuralHealthNetwork
DESCRIPTION:Help us keep Grand County healthy! https://www.coloradogives.org/organization/GrandCountyRuralHealthNetwork
URL:https://gcruralhealth.org/event/colorado-gives-day/
LOCATION:CO
END:VEVENT
BEGIN:VEVENT
DTSTART;TZID=America/Denver:20231205T170000
DTEND;TZID=America/Denver:20231205T190000
DTSTAMP:20260421T222426
CREATED:20231129T192500Z
LAST-MODIFIED:20231129T192500Z
UID:6183-1701795600-1701802800@gcruralhealth.org
SUMMARY:Health Insurance Enrollment Event – Kremmling
DESCRIPTION:Join us for our Health Insurance Enrollment Event on Tuesday\, December 5th from 5pm – 7pm. \nA Health Coverage Guide will be present to help with health insurance options\, including Medicaid renewals. \nLocation: Kremmling Library
URL:https://gcruralhealth.org/event/health-insurance-enrollment-event-kremmling/
LOCATION:Kremmling Library\, 300 S. 8th St.\, Kremmling\, CO\, United States
CATEGORIES:GCRHN Event
ORGANIZER;CN="GCRHN":MAILTO:mail@gcruralhealth.org
END:VEVENT
END:VCALENDAR