BEGIN:VCALENDAR
VERSION:2.0
PRODID:-//Grand County Rural Health Network - ECPv6.15.17.1//NONSGML v1.0//EN
CALSCALE:GREGORIAN
METHOD:PUBLISH
X-WR-CALNAME:Grand County Rural Health Network
X-ORIGINAL-URL:https://gcruralhealth.org
X-WR-CALDESC:Events for Grand County Rural Health Network
REFRESH-INTERVAL;VALUE=DURATION:PT1H
X-Robots-Tag:noindex
X-PUBLISHED-TTL:PT1H
BEGIN:VTIMEZONE
TZID:America/Denver
BEGIN:DAYLIGHT
TZOFFSETFROM:-0700
TZOFFSETTO:-0600
TZNAME:MDT
DTSTART:20220313T090000
END:DAYLIGHT
BEGIN:STANDARD
TZOFFSETFROM:-0600
TZOFFSETTO:-0700
TZNAME:MST
DTSTART:20221106T080000
END:STANDARD
BEGIN:DAYLIGHT
TZOFFSETFROM:-0700
TZOFFSETTO:-0600
TZNAME:MDT
DTSTART:20230312T090000
END:DAYLIGHT
BEGIN:STANDARD
TZOFFSETFROM:-0600
TZOFFSETTO:-0700
TZNAME:MST
DTSTART:20231105T080000
END:STANDARD
BEGIN:DAYLIGHT
TZOFFSETFROM:-0700
TZOFFSETTO:-0600
TZNAME:MDT
DTSTART:20240310T090000
END:DAYLIGHT
BEGIN:STANDARD
TZOFFSETFROM:-0600
TZOFFSETTO:-0700
TZNAME:MST
DTSTART:20241103T080000
END:STANDARD
END:VTIMEZONE
BEGIN:VEVENT
DTSTART;TZID=America/Denver:20231201T160000
DTEND;TZID=America/Denver:20231201T200000
DTSTAMP:20260421T221538
CREATED:20231004T190042Z
LAST-MODIFIED:20231127T203317Z
UID:5723-1701446400-1701460800@gcruralhealth.org
SUMMARY:Lion’s Club Festival of Trees
DESCRIPTION:
URL:https://gcruralhealth.org/event/lions-club-festival-of-trees/
LOCATION:Grand Park Recreation Center\, 1 Main Street\, Fraser
CATEGORIES:GCRHN Event Booth
END:VEVENT
END:VCALENDAR