BEGIN:VCALENDAR
VERSION:2.0
PRODID:-//Grand County Rural Health Network - ECPv6.15.17.1//NONSGML v1.0//EN
CALSCALE:GREGORIAN
METHOD:PUBLISH
X-WR-CALNAME:Grand County Rural Health Network
X-ORIGINAL-URL:https://gcruralhealth.org
X-WR-CALDESC:Events for Grand County Rural Health Network
REFRESH-INTERVAL;VALUE=DURATION:PT1H
X-Robots-Tag:noindex
X-PUBLISHED-TTL:PT1H
BEGIN:VTIMEZONE
TZID:America/Denver
BEGIN:DAYLIGHT
TZOFFSETFROM:-0700
TZOFFSETTO:-0600
TZNAME:MDT
DTSTART:20220313T090000
END:DAYLIGHT
BEGIN:STANDARD
TZOFFSETFROM:-0600
TZOFFSETTO:-0700
TZNAME:MST
DTSTART:20221106T080000
END:STANDARD
BEGIN:DAYLIGHT
TZOFFSETFROM:-0700
TZOFFSETTO:-0600
TZNAME:MDT
DTSTART:20230312T090000
END:DAYLIGHT
BEGIN:STANDARD
TZOFFSETFROM:-0600
TZOFFSETTO:-0700
TZNAME:MST
DTSTART:20231105T080000
END:STANDARD
BEGIN:DAYLIGHT
TZOFFSETFROM:-0700
TZOFFSETTO:-0600
TZNAME:MDT
DTSTART:20240310T090000
END:DAYLIGHT
BEGIN:STANDARD
TZOFFSETFROM:-0600
TZOFFSETTO:-0700
TZNAME:MST
DTSTART:20241103T080000
END:STANDARD
END:VTIMEZONE
BEGIN:VEVENT
DTSTART;TZID=America/Denver:20231116T180000
DTEND;TZID=America/Denver:20231116T200000
DTSTAMP:20260421T234637
CREATED:20230717T181542Z
LAST-MODIFIED:20231030T195405Z
UID:5176-1700157600-1700164800@gcruralhealth.org
SUMMARY:Community Leader Group meeting –
DESCRIPTION:The Grand County Rural Health Network’s Community Leader Group is a group of passionate Grand County residents working to address important issues facing our community. All are welcome to join us on the 3rd Thursday of each month from 6-8 pm. This month’s meeting will be held at St. John’s Church in Granby. Our meeting is open to the public. \nOur current focus areas are affordable housing\, behavioral health (specifically suicide prevention)\, and preventive health. We invite you to come to our monthly meetings and be a part of the change in our community. \nMeeting location varies and is also available on Zoom. Email info@gcruralhealth.org to get more information and this month’s meeting location or check out our Facebook page. \nTo learn more\, visit: https://gcruralhealth.org/take-action/community-leader-group/.
URL:https://gcruralhealth.org/event/community-leader-group-meeting-8/
LOCATION:CO
CATEGORIES:GCRHN Event
ORGANIZER;CN="GCRHN":MAILTO:mail@gcruralhealth.org
END:VEVENT
END:VCALENDAR