BEGIN:VCALENDAR
VERSION:2.0
PRODID:-//Grand County Rural Health Network - ECPv6.15.17.1//NONSGML v1.0//EN
CALSCALE:GREGORIAN
METHOD:PUBLISH
X-ORIGINAL-URL:https://gcruralhealth.org
X-WR-CALDESC:Events for Grand County Rural Health Network
REFRESH-INTERVAL;VALUE=DURATION:PT1H
X-Robots-Tag:noindex
X-PUBLISHED-TTL:PT1H
BEGIN:VTIMEZONE
TZID:America/Denver
BEGIN:DAYLIGHT
TZOFFSETFROM:-0700
TZOFFSETTO:-0600
TZNAME:MDT
DTSTART:20220313T090000
END:DAYLIGHT
BEGIN:STANDARD
TZOFFSETFROM:-0600
TZOFFSETTO:-0700
TZNAME:MST
DTSTART:20221106T080000
END:STANDARD
BEGIN:DAYLIGHT
TZOFFSETFROM:-0700
TZOFFSETTO:-0600
TZNAME:MDT
DTSTART:20230312T090000
END:DAYLIGHT
BEGIN:STANDARD
TZOFFSETFROM:-0600
TZOFFSETTO:-0700
TZNAME:MST
DTSTART:20231105T080000
END:STANDARD
BEGIN:DAYLIGHT
TZOFFSETFROM:-0700
TZOFFSETTO:-0600
TZNAME:MDT
DTSTART:20240310T090000
END:DAYLIGHT
BEGIN:STANDARD
TZOFFSETFROM:-0600
TZOFFSETTO:-0700
TZNAME:MST
DTSTART:20241103T080000
END:STANDARD
END:VTIMEZONE
BEGIN:VEVENT
DTSTART;TZID=America/Denver:20231012T090000
DTEND;TZID=America/Denver:20231012T120000
DTSTAMP:20260422T014832
CREATED:20231003T173009Z
LAST-MODIFIED:20231003T173009Z
UID:5712-1697101200-1697112000@gcruralhealth.org
SUMMARY:Business & Resource Hub planning meeting
DESCRIPTION:Nonprofit and Government Partners\, Business Leaders\, Community Members:\nWe want to hear from You! \nDid you know community “ Resource Hubs” benefit the local economy\, improve service reach\, and promote resource sharing? Come discover how a Centralized Building provides health and social supports\, economic resources\, and community\, all under one roof. Help us brainstorm our way to a Grand community! \n\nRSVP at https://bit.ly/3Pi1X9M\nFor more information\, call Jen or Christine: 970-725-3477\n\nSnacks provided!
URL:https://gcruralhealth.org/event/business-resource-hub-planning-meeting-2/
LOCATION:Grand Fire District Meeting Room\, Granby\, 60500 US-40\, Granby\, CO\, 80446\, United States
CATEGORIES:GCRHN Event
ORGANIZER;CN="GCRHN":MAILTO:mail@gcruralhealth.org
END:VEVENT
END:VCALENDAR