BEGIN:VCALENDAR
VERSION:2.0
PRODID:-//Grand County Rural Health Network - ECPv6.15.17.1//NONSGML v1.0//EN
CALSCALE:GREGORIAN
METHOD:PUBLISH
X-WR-CALNAME:Grand County Rural Health Network
X-ORIGINAL-URL:https://gcruralhealth.org
X-WR-CALDESC:Events for Grand County Rural Health Network
REFRESH-INTERVAL;VALUE=DURATION:PT1H
X-Robots-Tag:noindex
X-PUBLISHED-TTL:PT1H
BEGIN:VTIMEZONE
TZID:America/Denver
BEGIN:DAYLIGHT
TZOFFSETFROM:-0700
TZOFFSETTO:-0600
TZNAME:MDT
DTSTART:20220313T090000
END:DAYLIGHT
BEGIN:STANDARD
TZOFFSETFROM:-0600
TZOFFSETTO:-0700
TZNAME:MST
DTSTART:20221106T080000
END:STANDARD
BEGIN:DAYLIGHT
TZOFFSETFROM:-0700
TZOFFSETTO:-0600
TZNAME:MDT
DTSTART:20230312T090000
END:DAYLIGHT
BEGIN:STANDARD
TZOFFSETFROM:-0600
TZOFFSETTO:-0700
TZNAME:MST
DTSTART:20231105T080000
END:STANDARD
BEGIN:DAYLIGHT
TZOFFSETFROM:-0700
TZOFFSETTO:-0600
TZNAME:MDT
DTSTART:20240310T090000
END:DAYLIGHT
BEGIN:STANDARD
TZOFFSETFROM:-0600
TZOFFSETTO:-0700
TZNAME:MST
DTSTART:20241103T080000
END:STANDARD
END:VTIMEZONE
BEGIN:VEVENT
DTSTART;VALUE=DATE:20230907
DTEND;VALUE=DATE:20230914
DTSTAMP:20260422T032351
CREATED:20230411T210933Z
LAST-MODIFIED:20230904T163906Z
UID:4381-1694044800-1694649599@gcruralhealth.org
SUMMARY:4th Annual Gratitude for Grand: Give a High Five for Health Fundraiser
DESCRIPTION:This year our fundraiser will be held September 7-13\, 2023… and it’s just around the corner! To learn how you can give a High Five to those you feel are deserving and make a donation to our organization to improve the health of those in our community\, visit our event page: https://gcruralhealth.org/highfive/ and/or follow us on Facebook and Instagram (/gcrhn).
URL:https://gcruralhealth.org/event/4th-annual-gratitude-for-grand-give-a-high-five-for-health-fundraiser/
LOCATION:CO
ORGANIZER;CN="GCRHN":MAILTO:mail@gcruralhealth.org
END:VEVENT
BEGIN:VEVENT
DTSTART;TZID=America/Denver:20230910T140000
DTEND;TZID=America/Denver:20230910T170000
DTSTAMP:20260422T032351
CREATED:20230717T195021Z
LAST-MODIFIED:20230904T163633Z
UID:5188-1694354400-1694365200@gcruralhealth.org
SUMMARY:You Are Not Alone Suicide Awareness and Prevention Hike & Event
DESCRIPTION:The 3rd Annual You Are Not Alone Hike & Event is in support of mental health and suicide prevention and awareness\, benefitting the H.O.P.E. Fund. All community members are welcome and encouraged to join — no registration is required. For those that can’t hike\, sitting areas will be available. There will be ways to remember loved ones lost to suicide and reflect on your own mental health. The hike is held during Worldwide Suicide Prevention Day. \nFree food and music\, suicide loss survivors support group\, self-care booths\, arts and crafts\, and local mental health resources will be available on the day of the hike. \nT-shirts will be available at the event. \nEasy Loop Hike starts at 4:00 PM. \n\nTo learn more\, visit: https://buildinghopegrand.com/Events/you-are-not-alone-suicide-awareness-prevention-hike
URL:https://gcruralhealth.org/event/you-are-not-alone-suicide-awareness-and-prevention-hike/
LOCATION:Snow Mountain Ranch\, 1101 Co Rd 53\, Granby\, CO\, 80446\, United States
CATEGORIES:GCRHN Event Booth
END:VEVENT
END:VCALENDAR