BEGIN:VCALENDAR
VERSION:2.0
PRODID:-//Grand County Rural Health Network - ECPv6.15.17.1//NONSGML v1.0//EN
CALSCALE:GREGORIAN
METHOD:PUBLISH
X-WR-CALNAME:Grand County Rural Health Network
X-ORIGINAL-URL:https://gcruralhealth.org
X-WR-CALDESC:Events for Grand County Rural Health Network
REFRESH-INTERVAL;VALUE=DURATION:PT1H
X-Robots-Tag:noindex
X-PUBLISHED-TTL:PT1H
BEGIN:VTIMEZONE
TZID:America/Denver
BEGIN:DAYLIGHT
TZOFFSETFROM:-0700
TZOFFSETTO:-0600
TZNAME:MDT
DTSTART:20220313T090000
END:DAYLIGHT
BEGIN:STANDARD
TZOFFSETFROM:-0600
TZOFFSETTO:-0700
TZNAME:MST
DTSTART:20221106T080000
END:STANDARD
BEGIN:DAYLIGHT
TZOFFSETFROM:-0700
TZOFFSETTO:-0600
TZNAME:MDT
DTSTART:20230312T090000
END:DAYLIGHT
BEGIN:STANDARD
TZOFFSETFROM:-0600
TZOFFSETTO:-0700
TZNAME:MST
DTSTART:20231105T080000
END:STANDARD
BEGIN:DAYLIGHT
TZOFFSETFROM:-0700
TZOFFSETTO:-0600
TZNAME:MDT
DTSTART:20240310T090000
END:DAYLIGHT
BEGIN:STANDARD
TZOFFSETFROM:-0600
TZOFFSETTO:-0700
TZNAME:MST
DTSTART:20241103T080000
END:STANDARD
END:VTIMEZONE
BEGIN:VEVENT
DTSTART;TZID=America/Denver:20230713T090000
DTEND;TZID=America/Denver:20230713T110000
DTSTAMP:20260422T063611
CREATED:20230702T035716Z
LAST-MODIFIED:20230702T035716Z
UID:5048-1689238800-1689246000@gcruralhealth.org
SUMMARY:Health Insurance Enrollment Event
DESCRIPTION:Join us for our Health Insurance Enrollment Event to be held Thursday\, July 13 from 9 -11 am.\nA Health Coverage Guide will be present to help with Medicaid renewals as well as other insurance options for anyone losing Medicaid coverage.\nLocation: Grand County DHS Office\, 129 E Byers Ave\, Hot Sulphur Springs\, CO 80451
URL:https://gcruralhealth.org/event/health-insurance-enrollment-event-4/
LOCATION:CO
END:VEVENT
END:VCALENDAR